Package: PAA Version: 1.40.0 Command: chmod a+r PAA -R && F:\biocbuild\bbs-3.20-bioc\R\bin\R.exe CMD build --keep-empty-dirs --no-resave-data PAA StartedAt: 2025-03-31 20:49:34 -0400 (Mon, 31 Mar 2025) EndedAt: 2025-03-31 21:00:34 -0400 (Mon, 31 Mar 2025) EllapsedTime: 660.4 seconds RetCode: 0 Status: OK PackageFile: PAA_1.40.0.tar.gz PackageFileSize: 2.834 MiB