Package: PAA Version: 1.40.0 Command: /home/biocbuild/bbs-3.20-bioc/R/bin/R CMD INSTALL PAA StartedAt: 2025-01-27 16:41:52 -0500 (Mon, 27 Jan 2025) EndedAt: 2025-01-27 16:42:37 -0500 (Mon, 27 Jan 2025) EllapsedTime: 44.4 seconds RetCode: 0 Status: OK