Package: PAA Version: 1.40.0 Command: /home/biocbuild/bbs-3.20-bioc/R/bin/R CMD build --keep-empty-dirs --no-resave-data --md5 PAA StartedAt: 2025-01-27 19:22:55 -0500 (Mon, 27 Jan 2025) EndedAt: 2025-01-27 19:26:03 -0500 (Mon, 27 Jan 2025) EllapsedTime: 188.4 seconds RetCode: 0 Status: OK PackageFile: PAA_1.40.0.tar.gz PackageFileSize: 4.142 MiB