Package: PAA Version: 1.40.0 Command: /home/biocbuild/R/R/bin/R CMD INSTALL PAA StartedAt: 2024-11-19 21:18:31 -0000 (Tue, 19 Nov 2024) EndedAt: 2024-11-19 21:19:33 -0000 (Tue, 19 Nov 2024) EllapsedTime: 61.3 seconds RetCode: 0 Status: OK