Package: PAA Version: 1.40.0 Command: /Library/Frameworks/R.framework/Resources/bin/R CMD build --keep-empty-dirs --no-resave-data PAA StartedAt: 2025-01-28 05:02:25 -0500 (Tue, 28 Jan 2025) EndedAt: 2025-01-28 05:05:05 -0500 (Tue, 28 Jan 2025) EllapsedTime: 159.9 seconds RetCode: 0 Status: OK PackageFile: PAA_1.40.0.tar.gz PackageFileSize: 3.743 MiB