Package: OutSplice Version: 1.6.0 Command: /home/biocbuild/bbs-3.20-bioc/R/bin/R CMD build --keep-empty-dirs --no-resave-data --md5 OutSplice StartedAt: 2025-03-31 18:25:48 -0400 (Mon, 31 Mar 2025) EndedAt: 2025-03-31 18:28:12 -0400 (Mon, 31 Mar 2025) EllapsedTime: 143.2 seconds RetCode: 0 Status: OK PackageFile: OutSplice_1.6.0.tar.gz PackageFileSize: 3.865 MiB