Package: OutSplice Version: 1.6.0 Command: /Library/Frameworks/R.framework/Resources/bin/R CMD INSTALL OutSplice StartedAt: 2025-03-31 15:34:17 -0400 (Mon, 31 Mar 2025) EndedAt: 2025-03-31 15:35:26 -0400 (Mon, 31 Mar 2025) EllapsedTime: 68.7 seconds RetCode: 0 Status: OK