Package: OutSplice Version: 1.6.0 Command: /Library/Frameworks/R.framework/Resources/bin/R CMD check --install=check:OutSplice.install-out.txt --library=/Library/Frameworks/R.framework/Resources/library --no-vignettes --timings OutSplice_1.6.0.tar.gz StartedAt: 2025-04-01 06:50:34 -0400 (Tue, 01 Apr 2025) EndedAt: 2025-04-01 07:02:33 -0400 (Tue, 01 Apr 2025) EllapsedTime: 718.6 seconds RetCode: 0 Status: OK CheckDir: OutSplice.Rcheck Warnings: 0