Package: OutSplice Version: 1.6.0 Command: rm -rf OutSplice.buildbin-libdir && mkdir OutSplice.buildbin-libdir && /Users/biocbuild/BBS/utils/build-universal.sh OutSplice_1.6.0.tar.gz /Library/Frameworks/R.framework/Resources/bin/R OutSplice.buildbin-libdir StartedAt: 2025-04-01 12:25:07 -0400 (Tue, 01 Apr 2025) EndedAt: 2025-04-01 12:26:22 -0400 (Tue, 01 Apr 2025) EllapsedTime: 75.5 seconds RetCode: 0 Status: OK PackageFile: OutSplice_1.6.0.tgz PackageFileSize: 3.903 MiB