Package: Oscope Version: 1.36.0 Command: F:\biocbuild\bbs-3.20-bioc\R\bin\R.exe CMD INSTALL Oscope StartedAt: 2025-02-10 16:32:00 -0500 (Mon, 10 Feb 2025) EndedAt: 2025-02-10 16:32:15 -0500 (Mon, 10 Feb 2025) EllapsedTime: 14.7 seconds RetCode: 0 Status: OK