Package: Organism.dplyr Version: 1.34.0 Command: /Library/Frameworks/R.framework/Resources/bin/R CMD build --keep-empty-dirs --no-resave-data Organism.dplyr StartedAt: 2025-03-31 20:46:04 -0400 (Mon, 31 Mar 2025) EndedAt: 2025-03-31 20:48:35 -0400 (Mon, 31 Mar 2025) EllapsedTime: 151.5 seconds RetCode: 0 Status: OK PackageFile: Organism.dplyr_1.34.0.tar.gz PackageFileSize: 523.8 KiB