Package: Organism.dplyr Version: 1.34.0 Command: rm -rf Organism.dplyr.buildbin-libdir && mkdir Organism.dplyr.buildbin-libdir && /Users/biocbuild/BBS/utils/build-universal.sh Organism.dplyr_1.34.0.tar.gz /Library/Frameworks/R.framework/Resources/bin/R Organism.dplyr.buildbin-libdir StartedAt: 2025-01-28 14:00:46 -0500 (Tue, 28 Jan 2025) EndedAt: 2025-01-28 14:03:16 -0500 (Tue, 28 Jan 2025) EllapsedTime: 150.1 seconds RetCode: 0 Status: OK PackageFile: Organism.dplyr_1.34.0.tgz PackageFileSize: 887.9 KiB