Package: Organism.dplyr Version: 1.34.0 Command: /home/biocbuild/R/R/bin/R CMD check --install=check:Organism.dplyr.install-out.txt --library=/home/biocbuild/R/R/site-library --no-vignettes --timings Organism.dplyr_1.34.0.tar.gz StartedAt: 2024-11-20 10:44:57 -0000 (Wed, 20 Nov 2024) EndedAt: 2024-11-20 10:54:34 -0000 (Wed, 20 Nov 2024) EllapsedTime: 577.1 seconds RetCode: 0 Status: OK CheckDir: Organism.dplyr.Rcheck Warnings: 0