Package: OrderedList Version: 1.78.0 Command: F:\biocbuild\bbs-3.20-bioc\R\bin\R.exe CMD check --no-multiarch --install=check:OrderedList.install-out.txt --library=F:\biocbuild\bbs-3.20-bioc\R\library --no-vignettes --timings OrderedList_1.78.0.tar.gz StartedAt: 2025-01-28 04:19:56 -0500 (Tue, 28 Jan 2025) EndedAt: 2025-01-28 04:20:39 -0500 (Tue, 28 Jan 2025) EllapsedTime: 43.1 seconds RetCode: 0 Status: OK CheckDir: OrderedList.Rcheck Warnings: 0