Package: OpenStats Version: 1.18.0 Command: /home/biocbuild/R/R/bin/R CMD build --keep-empty-dirs --no-resave-data OpenStats StartedAt: 2025-01-28 02:08:20 -0000 (Tue, 28 Jan 2025) EndedAt: 2025-01-28 02:08:59 -0000 (Tue, 28 Jan 2025) EllapsedTime: 39.0 seconds RetCode: 0 Status: OK PackageFile: OpenStats_1.18.0.tar.gz PackageFileSize: 435.3 KiB