Package: OpenStats Version: 1.18.0 Command: /Library/Frameworks/R.framework/Resources/bin/R CMD build --keep-empty-dirs --no-resave-data OpenStats StartedAt: 2025-01-27 21:15:43 -0500 (Mon, 27 Jan 2025) EndedAt: 2025-01-27 21:16:38 -0500 (Mon, 27 Jan 2025) EllapsedTime: 54.8 seconds RetCode: 0 Status: OK PackageFile: OpenStats_1.18.0.tar.gz PackageFileSize: 598.9 KiB