Package: OncoSimulR Version: 4.8.0 Command: /home/biocbuild/R/R/bin/R CMD check --install=check:OncoSimulR.install-out.txt --library=/home/biocbuild/R/R/site-library --no-vignettes --timings OncoSimulR_4.8.0.tar.gz StartedAt: 2025-01-28 09:43:00 -0000 (Tue, 28 Jan 2025) EndedAt: 2025-01-28 09:49:58 -0000 (Tue, 28 Jan 2025) EllapsedTime: 417.8 seconds RetCode: 0 Status: OK CheckDir: OncoSimulR.Rcheck Warnings: 0