Package: OncoScore Version: 1.34.0 Command: /home/biocbuild/R/R/bin/R CMD check --install=check:OncoScore.install-out.txt --library=/home/biocbuild/R/R/site-library --no-vignettes --timings OncoScore_1.34.0.tar.gz StartedAt: 2025-02-04 09:32:27 -0000 (Tue, 04 Feb 2025) EndedAt: 2025-02-04 09:34:47 -0000 (Tue, 04 Feb 2025) EllapsedTime: 139.2 seconds RetCode: 0 Status: OK CheckDir: OncoScore.Rcheck Warnings: 0