Package: OncoScore Version: 1.34.0 Command: /home/biocbuild/R/R/bin/R CMD build --keep-empty-dirs --no-resave-data OncoScore StartedAt: 2025-02-04 01:34:46 -0000 (Tue, 04 Feb 2025) EndedAt: 2025-02-04 01:37:14 -0000 (Tue, 04 Feb 2025) EllapsedTime: 147.3 seconds RetCode: 0 Status: OK PackageFile: OncoScore_1.34.0.tar.gz PackageFileSize: 835.2 KiB