Package: OncoScore Version: 1.34.0 Command: /Library/Frameworks/R.framework/Resources/bin/R CMD check --install=check:OncoScore.install-out.txt --library=/Library/Frameworks/R.framework/Resources/library --no-vignettes --timings OncoScore_1.34.0.tar.gz StartedAt: 2025-04-02 03:18:13 -0400 (Wed, 02 Apr 2025) EndedAt: 2025-04-02 03:20:04 -0400 (Wed, 02 Apr 2025) EllapsedTime: 111.0 seconds RetCode: 0 Status: OK CheckDir: OncoScore.Rcheck Warnings: 0