Package: OncoScore Version: 1.34.0 Command: rm -rf OncoScore.buildbin-libdir && mkdir OncoScore.buildbin-libdir && /Users/biocbuild/BBS/utils/build-universal.sh OncoScore_1.34.0.tar.gz /Library/Frameworks/R.framework/Resources/bin/R OncoScore.buildbin-libdir StartedAt: 2025-01-29 15:48:48 -0500 (Wed, 29 Jan 2025) EndedAt: 2025-01-29 15:49:07 -0500 (Wed, 29 Jan 2025) EllapsedTime: 19.4 seconds RetCode: 0 Status: OK PackageFile: OncoScore_1.34.0.tgz PackageFileSize: 969.2 KiB