Package: OmnipathR Version: 3.14.0 Command: /home/biocbuild/R/R/bin/R CMD INSTALL OmnipathR StartedAt: 2025-03-31 20:46:29 -0000 (Mon, 31 Mar 2025) EndedAt: 2025-03-31 20:46:52 -0000 (Mon, 31 Mar 2025) EllapsedTime: 22.8 seconds RetCode: 0 Status: OK