Package: OmnipathR Version: 3.14.0 Command: chmod a+r OmnipathR -R && F:\biocbuild\bbs-3.20-bioc\R\bin\R.exe CMD build --keep-empty-dirs --no-resave-data OmnipathR StartedAt: 2025-03-31 20:41:20 -0400 (Mon, 31 Mar 2025) EndedAt: 2025-03-31 20:53:58 -0400 (Mon, 31 Mar 2025) EllapsedTime: 758.2 seconds RetCode: 0 Status: OK PackageFile: OmnipathR_3.14.0.tar.gz PackageFileSize: 3.185 MiB