Package: OmnipathR Version: 3.14.0 Command: /Library/Frameworks/R.framework/Resources/bin/R CMD build --keep-empty-dirs --no-resave-data OmnipathR StartedAt: 2025-03-31 20:43:05 -0400 (Mon, 31 Mar 2025) EndedAt: 2025-03-31 21:09:42 -0400 (Mon, 31 Mar 2025) EllapsedTime: 1596.9 seconds RetCode: 0 Status: OK PackageFile: OmnipathR_3.14.0.tar.gz PackageFileSize: 3.6 MiB