Package: OmnipathR Version: 3.14.0 Command: rm -rf OmnipathR.buildbin-libdir && mkdir OmnipathR.buildbin-libdir && /Users/biocbuild/BBS/utils/build-universal.sh OmnipathR_3.14.0.tar.gz /Library/Frameworks/R.framework/Resources/bin/R OmnipathR.buildbin-libdir StartedAt: 2025-01-28 13:59:04 -0500 (Tue, 28 Jan 2025) EndedAt: 2025-01-28 14:00:19 -0500 (Tue, 28 Jan 2025) EllapsedTime: 74.9 seconds RetCode: 0 Status: OK PackageFile: OmnipathR_3.14.0.tgz PackageFileSize: 3.593 MiB