Package: Omixer Version: 1.16.0 Command: rm -rf Omixer.buildbin-libdir && mkdir Omixer.buildbin-libdir && F:\biocbuild\bbs-3.20-bioc\R\bin\R.exe CMD INSTALL --build --library=Omixer.buildbin-libdir Omixer_1.16.0.tar.gz StartedAt: 2025-04-01 08:47:43 -0400 (Tue, 01 Apr 2025) EndedAt: 2025-04-01 08:47:58 -0400 (Tue, 01 Apr 2025) EllapsedTime: 14.8 seconds RetCode: 0 Status: OK PackageFile: Omixer_1.16.0.zip PackageFileSize: 950.1 KiB