Package: Omixer Version: 1.16.0 Command: /home/biocbuild/bbs-3.20-bioc/R/bin/R CMD check --install=check:Omixer.install-out.txt --library=/home/biocbuild/bbs-3.20-bioc/R/site-library --timings Omixer_1.16.0.tar.gz StartedAt: 2025-04-01 00:36:48 -0400 (Tue, 01 Apr 2025) EndedAt: 2025-04-01 00:38:36 -0400 (Tue, 01 Apr 2025) EllapsedTime: 108.1 seconds RetCode: 0 Status: OK CheckDir: Omixer.Rcheck Warnings: 0