Package: Omixer Version: 1.16.0 Command: /Library/Frameworks/R.framework/Resources/bin/R CMD build --keep-empty-dirs --no-resave-data Omixer StartedAt: 2025-01-27 21:13:46 -0500 (Mon, 27 Jan 2025) EndedAt: 2025-01-27 21:16:52 -0500 (Mon, 27 Jan 2025) EllapsedTime: 185.2 seconds RetCode: 0 Status: OK PackageFile: Omixer_1.16.0.tar.gz PackageFileSize: 1.407 MiB