Package: Omixer Version: 1.16.0 Command: /Library/Frameworks/R.framework/Resources/bin/R CMD build --keep-empty-dirs --no-resave-data Omixer StartedAt: 2024-11-19 17:57:28 -0500 (Tue, 19 Nov 2024) EndedAt: 2024-11-19 17:59:03 -0500 (Tue, 19 Nov 2024) EllapsedTime: 95.7 seconds RetCode: 0 Status: OK PackageFile: Omixer_1.16.0.tar.gz PackageFileSize: 1.407 MiB