Package: Omixer Version: 1.16.0 Command: /Library/Frameworks/R.framework/Resources/bin/R CMD build --keep-empty-dirs --no-resave-data Omixer StartedAt: 2025-02-04 04:56:42 -0500 (Tue, 04 Feb 2025) EndedAt: 2025-02-04 04:58:06 -0500 (Tue, 04 Feb 2025) EllapsedTime: 84.4 seconds RetCode: 0 Status: OK PackageFile: Omixer_1.16.0.tar.gz PackageFileSize: 1.407 MiB