Package: OmaDB Version: 2.22.0 Command: rm -rf OmaDB.buildbin-libdir && mkdir OmaDB.buildbin-libdir && F:\biocbuild\bbs-3.20-bioc\R\bin\R.exe CMD INSTALL --build --library=OmaDB.buildbin-libdir OmaDB_2.22.0.tar.gz StartedAt: 2025-01-28 08:43:57 -0500 (Tue, 28 Jan 2025) EndedAt: 2025-01-28 08:44:32 -0500 (Tue, 28 Jan 2025) EllapsedTime: 34.7 seconds RetCode: 0 Status: OK PackageFile: OmaDB_2.22.0.zip PackageFileSize: 196.3 KiB