Package: OmaDB Version: 2.22.0 Command: /Library/Frameworks/R.framework/Resources/bin/R CMD build --keep-empty-dirs --no-resave-data OmaDB StartedAt: 2025-01-27 21:12:42 -0500 (Mon, 27 Jan 2025) EndedAt: 2025-01-27 21:13:34 -0500 (Mon, 27 Jan 2025) EllapsedTime: 51.9 seconds RetCode: 0 Status: OK PackageFile: OmaDB_2.22.0.tar.gz PackageFileSize: 98.16 KiB