Package: OmaDB Version: 2.22.0 Command: /Library/Frameworks/R.framework/Resources/bin/R CMD INSTALL OmaDB StartedAt: 2025-01-27 18:02:12 -0500 (Mon, 27 Jan 2025) EndedAt: 2025-01-27 18:02:32 -0500 (Mon, 27 Jan 2025) EllapsedTime: 19.6 seconds RetCode: 0 Status: OK