Package: OmaDB Version: 2.22.0 Command: rm -rf OmaDB.buildbin-libdir && mkdir OmaDB.buildbin-libdir && /Users/biocbuild/BBS/utils/build-universal.sh OmaDB_2.22.0.tar.gz /Library/Frameworks/R.framework/Resources/bin/R OmaDB.buildbin-libdir StartedAt: 2025-01-29 15:47:33 -0500 (Wed, 29 Jan 2025) EndedAt: 2025-01-29 15:47:54 -0500 (Wed, 29 Jan 2025) EllapsedTime: 21.1 seconds RetCode: 0 Status: OK PackageFile: OmaDB_2.22.0.tgz PackageFileSize: 180.7 KiB