Package: OVESEG Version: 1.22.0 Command: /home/biocbuild/R/R/bin/R CMD build --keep-empty-dirs --no-resave-data OVESEG StartedAt: 2025-01-31 01:36:37 -0000 (Fri, 31 Jan 2025) EndedAt: 2025-01-31 01:44:56 -0000 (Fri, 31 Jan 2025) EllapsedTime: 499.7 seconds RetCode: 0 Status: OK PackageFile: OVESEG_1.22.0.tar.gz PackageFileSize: 791.5 KiB