Package: OVESEG Version: 1.22.0 Command: /Library/Frameworks/R.framework/Resources/bin/R CMD build --keep-empty-dirs --no-resave-data OVESEG StartedAt: 2025-04-01 04:48:32 -0400 (Tue, 01 Apr 2025) EndedAt: 2025-04-01 04:54:56 -0400 (Tue, 01 Apr 2025) EllapsedTime: 384.9 seconds RetCode: 0 Status: OK PackageFile: OVESEG_1.22.0.tar.gz PackageFileSize: 796.8 KiB