Package: OUTRIDER Version: 1.24.0 Command: /home/biocbuild/R/R/bin/R CMD INSTALL OUTRIDER StartedAt: 2025-01-30 20:58:55 -0000 (Thu, 30 Jan 2025) EndedAt: 2025-01-30 21:00:11 -0000 (Thu, 30 Jan 2025) EllapsedTime: 76.1 seconds RetCode: 0 Status: OK