Package: OUTRIDER Version: 1.24.0 Command: /home/biocbuild/R/R/bin/R CMD check --install=check:OUTRIDER.install-out.txt --library=/home/biocbuild/R/R/site-library --no-vignettes --timings OUTRIDER_1.24.0.tar.gz StartedAt: 2025-04-01 09:12:30 -0000 (Tue, 01 Apr 2025) EndedAt: 2025-04-01 09:22:29 -0000 (Tue, 01 Apr 2025) EllapsedTime: 598.5 seconds RetCode: 0 Status: OK CheckDir: OUTRIDER.Rcheck Warnings: 0