Package: OUTRIDER Version: 1.24.0 Command: /home/biocbuild/R/R/bin/R CMD build --keep-empty-dirs --no-resave-data OUTRIDER StartedAt: 2025-01-31 01:35:47 -0000 (Fri, 31 Jan 2025) EndedAt: 2025-01-31 01:43:08 -0000 (Fri, 31 Jan 2025) EllapsedTime: 441.7 seconds RetCode: 0 Status: OK PackageFile: OUTRIDER_1.24.0.tar.gz PackageFileSize: 1.932 MiB