Package: OUTRIDER Version: 1.24.0 Command: rm -rf OUTRIDER.buildbin-libdir && mkdir OUTRIDER.buildbin-libdir && /Users/biocbuild/BBS/utils/build-universal.sh OUTRIDER_1.24.0.tar.gz /Library/Frameworks/R.framework/Resources/bin/R OUTRIDER.buildbin-libdir StartedAt: 2025-01-31 13:20:35 -0500 (Fri, 31 Jan 2025) EndedAt: 2025-01-31 13:22:43 -0500 (Fri, 31 Jan 2025) EllapsedTime: 127.9 seconds RetCode: 0 Status: OK PackageFile: OUTRIDER_1.24.0.tgz PackageFileSize: 2.577 MiB