Package: OTUbase Version: 1.56.0 Command: /home/biocbuild/R/R/bin/R CMD check --install=check:OTUbase.install-out.txt --library=/home/biocbuild/R/R/site-library --no-vignettes --timings OTUbase_1.56.0.tar.gz StartedAt: 2025-01-28 09:48:45 -0000 (Tue, 28 Jan 2025) EndedAt: 2025-01-28 09:53:55 -0000 (Tue, 28 Jan 2025) EllapsedTime: 309.7 seconds RetCode: 0 Status: OK CheckDir: OTUbase.Rcheck Warnings: 0