Package: OTUbase Version: 1.56.0 Command: /home/biocbuild/R/R/bin/R CMD build --keep-empty-dirs --no-resave-data OTUbase StartedAt: 2025-01-28 02:11:52 -0000 (Tue, 28 Jan 2025) EndedAt: 2025-01-28 02:12:58 -0000 (Tue, 28 Jan 2025) EllapsedTime: 66.1 seconds RetCode: 0 Status: OK PackageFile: OTUbase_1.56.0.tar.gz PackageFileSize: 175.8 KiB