Package: OTUbase Version: 1.56.0 Command: /Library/Frameworks/R.framework/Resources/bin/R CMD INSTALL OTUbase StartedAt: 2025-01-27 15:49:27 -0500 (Mon, 27 Jan 2025) EndedAt: 2025-01-27 15:50:39 -0500 (Mon, 27 Jan 2025) EllapsedTime: 71.9 seconds RetCode: 0 Status: OK