Package: OTUbase Version: 1.56.0 Command: /Library/Frameworks/R.framework/Resources/bin/R CMD INSTALL OTUbase StartedAt: 2025-02-03 16:11:24 -0500 (Mon, 03 Feb 2025) EndedAt: 2025-02-03 16:12:01 -0500 (Mon, 03 Feb 2025) EllapsedTime: 37.4 seconds RetCode: 0 Status: OK