Package: OSAT Version: 1.54.0 Command: /home/biocbuild/R/R/bin/R CMD build --keep-empty-dirs --no-resave-data OSAT StartedAt: 2025-01-31 01:35:26 -0000 (Fri, 31 Jan 2025) EndedAt: 2025-01-31 01:36:37 -0000 (Fri, 31 Jan 2025) EllapsedTime: 70.2 seconds RetCode: 0 Status: OK PackageFile: OSAT_1.54.0.tar.gz PackageFileSize: 952.6 KiB