Package: OSAT Version: 1.54.0 Command: rm -rf OSAT.buildbin-libdir && mkdir OSAT.buildbin-libdir && /Users/biocbuild/BBS/utils/build-universal.sh OSAT_1.54.0.tar.gz /Library/Frameworks/R.framework/Resources/bin/R OSAT.buildbin-libdir StartedAt: 2025-04-01 12:24:48 -0400 (Tue, 01 Apr 2025) EndedAt: 2025-04-01 12:24:58 -0400 (Tue, 01 Apr 2025) EllapsedTime: 9.9 seconds RetCode: 0 Status: OK PackageFile: OSAT_1.54.0.tgz PackageFileSize: 645.5 KiB