Package: OSAT Version: 1.54.0 Command: /Library/Frameworks/R.framework/Resources/bin/R CMD INSTALL OSAT StartedAt: 2025-03-31 15:03:23 -0400 (Mon, 31 Mar 2025) EndedAt: 2025-03-31 15:03:27 -0400 (Mon, 31 Mar 2025) EllapsedTime: 4.6 seconds RetCode: 0 Status: OK