Package: OSAT Version: 1.54.0 Command: /Library/Frameworks/R.framework/Resources/bin/R CMD build --keep-empty-dirs --no-resave-data OSAT StartedAt: 2025-04-01 04:46:11 -0400 (Tue, 01 Apr 2025) EndedAt: 2025-04-01 04:46:50 -0400 (Tue, 01 Apr 2025) EllapsedTime: 38.7 seconds RetCode: 0 Status: OK PackageFile: OSAT_1.54.0.tar.gz PackageFileSize: 959.6 KiB