Package: ORFik Version: 1.26.1 Command: /home/biocbuild/R/R/bin/R CMD INSTALL ORFik StartedAt: 2025-01-27 21:33:16 -0000 (Mon, 27 Jan 2025) EndedAt: 2025-01-27 21:34:51 -0000 (Mon, 27 Jan 2025) EllapsedTime: 95.6 seconds RetCode: 0 Status: OK