Package: ORFik Version: 1.26.1 Command: /home/biocbuild/R/R/bin/R CMD check --install=check:ORFik.install-out.txt --library=/home/biocbuild/R/R/site-library --no-vignettes --timings ORFik_1.26.1.tar.gz StartedAt: 2025-01-28 09:47:17 -0000 (Tue, 28 Jan 2025) EndedAt: 2025-01-28 10:00:30 -0000 (Tue, 28 Jan 2025) EllapsedTime: 793.3 seconds RetCode: 0 Status: WARNINGS CheckDir: ORFik.Rcheck Warnings: 1